BEGIN:VCALENDAR
VERSION:2.0
PRODID:-//Culver School District #4 - ECPv6.15.11//NONSGML v1.0//EN
CALSCALE:GREGORIAN
METHOD:PUBLISH
X-ORIGINAL-URL:https://www.culver.k12.or.us
X-WR-CALDESC:Events for Culver School District #4
REFRESH-INTERVAL;VALUE=DURATION:PT1H
X-Robots-Tag:noindex
X-PUBLISHED-TTL:PT1H
BEGIN:VTIMEZONE
TZID:America/Los_Angeles
BEGIN:DAYLIGHT
TZOFFSETFROM:-0800
TZOFFSETTO:-0700
TZNAME:PDT
DTSTART:20230312T100000
END:DAYLIGHT
BEGIN:STANDARD
TZOFFSETFROM:-0700
TZOFFSETTO:-0800
TZNAME:PST
DTSTART:20231105T090000
END:STANDARD
BEGIN:DAYLIGHT
TZOFFSETFROM:-0800
TZOFFSETTO:-0700
TZNAME:PDT
DTSTART:20240310T100000
END:DAYLIGHT
BEGIN:STANDARD
TZOFFSETFROM:-0700
TZOFFSETTO:-0800
TZNAME:PST
DTSTART:20241103T090000
END:STANDARD
BEGIN:DAYLIGHT
TZOFFSETFROM:-0800
TZOFFSETTO:-0700
TZNAME:PDT
DTSTART:20250309T100000
END:DAYLIGHT
BEGIN:STANDARD
TZOFFSETFROM:-0700
TZOFFSETTO:-0800
TZNAME:PST
DTSTART:20251102T090000
END:STANDARD
END:VTIMEZONE
BEGIN:VEVENT
DTSTART;VALUE=DATE:20240903
DTEND;VALUE=DATE:20240904
DTSTAMP:20260423T052956
CREATED:20240719T184159Z
LAST-MODIFIED:20240719T184159Z
UID:5296-1725321600-1725407999@www.culver.k12.or.us
SUMMARY:First Day of School for Grades 1st-9th
DESCRIPTION:
URL:https://www.culver.k12.or.us/event/first-day-of-school-for-grades-1st-9th/
END:VEVENT
BEGIN:VEVENT
DTSTART;TZID=America/Los_Angeles:20240829T170000
DTEND;TZID=America/Los_Angeles:20240829T200000
DTSTAMP:20260423T052956
CREATED:20240719T230350Z
LAST-MODIFIED:20240719T230350Z
UID:5346-1724950800-1724961600@www.culver.k12.or.us
SUMMARY:Culver School District K-12 Open House
DESCRIPTION:
URL:https://www.culver.k12.or.us/event/culver-school-district-k-12-open-house/
END:VEVENT
BEGIN:VEVENT
DTSTART;TZID=America/Los_Angeles:20240829T170000
DTEND;TZID=America/Los_Angeles:20240829T190000
DTSTAMP:20260423T052956
CREATED:20240723T172449Z
LAST-MODIFIED:20240723T172449Z
UID:5351-1724950800-1724958000@www.culver.k12.or.us
SUMMARY:Culver School District Board Meeting
DESCRIPTION:
URL:https://www.culver.k12.or.us/event/culver-school-district-board-meeting-2/
END:VEVENT
BEGIN:VEVENT
DTSTART;TZID=America/Los_Angeles:20240801T170000
DTEND;TZID=America/Los_Angeles:20240801T190000
DTSTAMP:20260423T052956
CREATED:20240723T172142Z
LAST-MODIFIED:20240723T172142Z
UID:5348-1722531600-1722538800@www.culver.k12.or.us
SUMMARY:Culver School District Board Meeting
DESCRIPTION:
URL:https://www.culver.k12.or.us/event/culver-school-district-board-meeting/
END:VEVENT
END:VCALENDAR