BEGIN:VCALENDAR
VERSION:2.0
PRODID:-//Culver School District #4 - ECPv6.15.11//NONSGML v1.0//EN
CALSCALE:GREGORIAN
METHOD:PUBLISH
X-ORIGINAL-URL:https://www.culver.k12.or.us
X-WR-CALDESC:Events for Culver School District #4
REFRESH-INTERVAL;VALUE=DURATION:PT1H
X-Robots-Tag:noindex
X-PUBLISHED-TTL:PT1H
BEGIN:VTIMEZONE
TZID:America/Los_Angeles
BEGIN:DAYLIGHT
TZOFFSETFROM:-0800
TZOFFSETTO:-0700
TZNAME:PDT
DTSTART:20250309T100000
END:DAYLIGHT
BEGIN:STANDARD
TZOFFSETFROM:-0700
TZOFFSETTO:-0800
TZNAME:PST
DTSTART:20251102T090000
END:STANDARD
BEGIN:DAYLIGHT
TZOFFSETFROM:-0800
TZOFFSETTO:-0700
TZNAME:PDT
DTSTART:20260308T100000
END:DAYLIGHT
BEGIN:STANDARD
TZOFFSETFROM:-0700
TZOFFSETTO:-0800
TZNAME:PST
DTSTART:20261101T090000
END:STANDARD
BEGIN:DAYLIGHT
TZOFFSETFROM:-0800
TZOFFSETTO:-0700
TZNAME:PDT
DTSTART:20270314T100000
END:DAYLIGHT
BEGIN:STANDARD
TZOFFSETFROM:-0700
TZOFFSETTO:-0800
TZNAME:PST
DTSTART:20271107T090000
END:STANDARD
END:VTIMEZONE
BEGIN:VEVENT
DTSTART;TZID=America/Los_Angeles:20260528T170000
DTEND;TZID=America/Los_Angeles:20260528T200000
DTSTAMP:20260424T082945
CREATED:20251030T182222Z
LAST-MODIFIED:20251030T182222Z
UID:6433-1779987600-1779998400@www.culver.k12.or.us
SUMMARY:Culver School District #4 School Board Meeting
DESCRIPTION:
URL:https://www.culver.k12.or.us/event/culver-school-district-4-school-board-meeting-6/
END:VEVENT
BEGIN:VEVENT
DTSTART;VALUE=DATE:20260603
DTEND;VALUE=DATE:20260604
DTSTAMP:20260424T082945
CREATED:20251030T182207Z
LAST-MODIFIED:20251030T182207Z
UID:6425-1780444800-1780531199@www.culver.k12.or.us
SUMMARY:Last Day of School for Seniors
DESCRIPTION:
URL:https://www.culver.k12.or.us/event/last-day-of-school-for-seniors-2/
END:VEVENT
BEGIN:VEVENT
DTSTART;VALUE=DATE:20260605
DTEND;VALUE=DATE:20260606
DTSTAMP:20260424T082945
CREATED:20251030T182207Z
LAST-MODIFIED:20251030T182207Z
UID:6426-1780617600-1780703999@www.culver.k12.or.us
SUMMARY:High School Graduation
DESCRIPTION:
URL:https://www.culver.k12.or.us/event/high-school-graduation-2/
END:VEVENT
BEGIN:VEVENT
DTSTART;VALUE=DATE:20260609
DTEND;VALUE=DATE:20260610
DTSTAMP:20260424T082945
CREATED:20251030T182207Z
LAST-MODIFIED:20251030T182207Z
UID:6427-1780963200-1781049599@www.culver.k12.or.us
SUMMARY:Last day of School (Early Release)
DESCRIPTION:
URL:https://www.culver.k12.or.us/event/last-day-of-school-early-release/
END:VEVENT
BEGIN:VEVENT
DTSTART;TZID=America/Los_Angeles:20260625T170000
DTEND;TZID=America/Los_Angeles:20260625T200000
DTSTAMP:20260424T082945
CREATED:20251030T182222Z
LAST-MODIFIED:20251030T182222Z
UID:6434-1782406800-1782417600@www.culver.k12.or.us
SUMMARY:Culver School District #4 School Board Meeting
DESCRIPTION:
URL:https://www.culver.k12.or.us/event/culver-school-district-4-school-board-meeting-7/
END:VEVENT
END:VCALENDAR